BEGIN:VCALENDAR
VERSION:2.0
PRODID:-//Australia Telescope National Facility - ECPv6.15.20//NONSGML v1.0//EN
CALSCALE:GREGORIAN
METHOD:PUBLISH
X-WR-CALNAME:Australia Telescope National Facility
X-ORIGINAL-URL:https://www.atnf.csiro.au
X-WR-CALDESC:Events for Australia Telescope National Facility
REFRESH-INTERVAL;VALUE=DURATION:PT1H
X-Robots-Tag:noindex
X-PUBLISHED-TTL:PT1H
BEGIN:VTIMEZONE
TZID:Australia/Sydney
BEGIN:STANDARD
TZOFFSETFROM:+1100
TZOFFSETTO:+1000
TZNAME:AEST
DTSTART:20220402T160000
END:STANDARD
BEGIN:DAYLIGHT
TZOFFSETFROM:+1000
TZOFFSETTO:+1100
TZNAME:AEDT
DTSTART:20221001T160000
END:DAYLIGHT
BEGIN:STANDARD
TZOFFSETFROM:+1100
TZOFFSETTO:+1000
TZNAME:AEST
DTSTART:20230401T160000
END:STANDARD
BEGIN:DAYLIGHT
TZOFFSETFROM:+1000
TZOFFSETTO:+1100
TZNAME:AEDT
DTSTART:20230930T160000
END:DAYLIGHT
BEGIN:STANDARD
TZOFFSETFROM:+1100
TZOFFSETTO:+1000
TZNAME:AEST
DTSTART:20240406T160000
END:STANDARD
BEGIN:DAYLIGHT
TZOFFSETFROM:+1000
TZOFFSETTO:+1100
TZNAME:AEDT
DTSTART:20241005T160000
END:DAYLIGHT
END:VTIMEZONE
BEGIN:VEVENT
DTSTART;TZID=Australia/Sydney:20230426T150000
DTEND;TZID=Australia/Sydney:20230426T160000
DTSTAMP:20260426T053424
CREATED:20250819T073055Z
LAST-MODIFIED:20250819T073056Z
UID:14929-1682521200-1682524800@www.atnf.csiro.au
SUMMARY:S&A Colloquium: Jayender Kumar (CSIRO)
DESCRIPTION:The dynamics and 3D structure of the Galactic long bar\n\nAbstract\n\nUnderstanding the 3D structure and associated dynamics of the inner 4-kpc of the Milky Way is very challenging because of high obscuration at optical wavelengths and our ability to accurately measure the distance and 3D motions of sources at these distances. \n\nIn this work\, we measured parallax and proper motions of three 22.2 GHz water masers\, each associated with a High-Mass Star-Forming Region (HMSFR) in the first quadrant of the Milky Way. With these measurements combined with other BeSSel projects’ published and un-published parallax and proper motion measurements of maser sources associated with HMSFRs within the 4 kpc region of the Galactic centre\, we present evidence that the young HMSFRs in the inner galaxy are located in the gases following ’quasi-elliptical’ orbits. These represent the first direct measurements of the dynamics of the Milky Way’s bar. \nWatch recording\nEvent details\nDownload iCal\nCategory\nColloquia
URL:https://www.atnf.csiro.au/event/sa-colloquium-jayender-kumar-csiro/
CATEGORIES:Colloquia
ATTACH;FMTTYPE=image/jpeg:https://www.atnf.csiro.au/wp-content/uploads/2024/12/Colloq-26042023-scaled.jpg
END:VEVENT
END:VCALENDAR